BEGIN:VCALENDAR
VERSION:2.0
PRODID:-//One Westside - ECPv6.15.20//NONSGML v1.0//EN
CALSCALE:GREGORIAN
METHOD:PUBLISH
X-ORIGINAL-URL:https://onewestside.org
X-WR-CALDESC:Events for One Westside
REFRESH-INTERVAL;VALUE=DURATION:PT1H
X-Robots-Tag:noindex
X-PUBLISHED-TTL:PT1H
BEGIN:VTIMEZONE
TZID:America/New_York
BEGIN:DAYLIGHT
TZOFFSETFROM:-0500
TZOFFSETTO:-0400
TZNAME:EDT
DTSTART:20240310T070000
END:DAYLIGHT
BEGIN:STANDARD
TZOFFSETFROM:-0400
TZOFFSETTO:-0500
TZNAME:EST
DTSTART:20241103T060000
END:STANDARD
BEGIN:DAYLIGHT
TZOFFSETFROM:-0500
TZOFFSETTO:-0400
TZNAME:EDT
DTSTART:20250309T070000
END:DAYLIGHT
BEGIN:STANDARD
TZOFFSETFROM:-0400
TZOFFSETTO:-0500
TZNAME:EST
DTSTART:20251102T060000
END:STANDARD
BEGIN:DAYLIGHT
TZOFFSETFROM:-0500
TZOFFSETTO:-0400
TZNAME:EDT
DTSTART:20260308T070000
END:DAYLIGHT
BEGIN:STANDARD
TZOFFSETFROM:-0400
TZOFFSETTO:-0500
TZNAME:EST
DTSTART:20261101T060000
END:STANDARD
BEGIN:DAYLIGHT
TZOFFSETFROM:-0500
TZOFFSETTO:-0400
TZNAME:EDT
DTSTART:20270314T070000
END:DAYLIGHT
BEGIN:STANDARD
TZOFFSETFROM:-0400
TZOFFSETTO:-0500
TZNAME:EST
DTSTART:20271107T060000
END:STANDARD
END:VTIMEZONE
BEGIN:VEVENT
DTSTART;TZID=America/New_York:20260217T130000
DTEND;TZID=America/New_York:20260217T160000
DTSTAMP:20260424T172239
CREATED:20260209T143524Z
LAST-MODIFIED:20260209T143524Z
UID:12164-1771333200-1771344000@onewestside.org
SUMMARY:
DESCRIPTION:Join us for a food distribution event for College Hill Courts residents. Free food available on a first-come\, first-served basis while supplies last!
URL:https://onewestside.org/event/12164/
LOCATION:College Hill Courts Assembly Room\, 1300 Grove Street\, Chattanooga\, TN\, 34702\, United States
CATEGORIES:Health
ATTACH;FMTTYPE=image/png:https://onewestside.org/wp-content/uploads/2026/02/Screenshot-2026-02-09-093336.png
END:VEVENT
BEGIN:VEVENT
DTSTART;TZID=America/New_York:20251023T163000
DTEND;TZID=America/New_York:20251023T173000
DTSTAMP:20260424T172239
CREATED:20250528T181526Z
LAST-MODIFIED:20251022T200211Z
UID:11424-1761237000-1761240600@onewestside.org
SUMMARY:One Westside Resident Meeting with USI
DESCRIPTION:Join us on Thursday\, October 23rd at 4:30pm for a special Healthy Cooking event at our next resident meeting held at the College Hill Courts assembly Room. Building on the excitement from our recent Health Fair\, this session will focus on simple\, affordable ways to prepare healthy meals at home. Residents will enjoy a live cooking demonstration\, learn new recipes\, and take home tips on how small changes in the kitchen can lead to big benefits for your health. \nHealthy eating matters. The food we choose to eat can boost our energy\, improve our well-being\, and help us to feel our best. Come to the Assembly Room to learn about services and support\, sample delicious and healthy food\, and connect with neighbors who are on the same path to healthier living. \nThese meetings are open to all Westside residents and take place on the last Thursday of every month. \nWe hope to see you there!
URL:https://onewestside.org/event/one-westside-resident-meeting-with-usi-4/
LOCATION:College Hill Courts Assembly Room\, 1300 Grove Street\, Chattanooga\, TN\, 34702\, United States
CATEGORIES:Health,Meetings
ATTACH;FMTTYPE=image/jpeg:https://onewestside.org/wp-content/uploads/2025/05/People-sitting-at-a-community-meeting-web.jpg
END:VEVENT
BEGIN:VEVENT
DTSTART;TZID=America/New_York:20251007T100000
DTEND;TZID=America/New_York:20251007T140000
DTSTAMP:20260424T172239
CREATED:20250709T194707Z
LAST-MODIFIED:20250930T193347Z
UID:11552-1759831200-1759845600@onewestside.org
SUMMARY:Health is Wealth Fair
DESCRIPTION:“Health is Wealth” is a simple but powerful idea: taking care of your body and mind is one of the most important investments you can make. When you prioritize your health\, you gain energy\, confidence\, and are able to tackle the challenges of the day. Our Health is Wealth Fair is bringing screenings\, resources\, and health providers to you so you can enjoy the benefits of a healthier\, more vibrant life. \n  \n📍 College Hill Courts Assembly Room 🗓 Tuesday\, October 7th\, 2025⏰ From 10 AM – 2 PM \nTake care of yourself and your family at the Health is Wealth Fair at College Hill Courts! Our local partners will be ready to connect and share helpful resources: \n  \n\nSignal Centers – Learn about assistive technology and tools to help with daily living and independence.\nHamilton County Health Department – Get information on vaccinations\, health screenings\, and wellness programs for all ages.\nCEMPA – Explore primary care and family health resources available in the area.\nCHI Memorial – Receive guidance on health services\, preventive care\, and community programs.\nUrban Strategies\, Inc. (USI) – Meet onsite case managers who can help you access support services\, connect with programs\, and coordinate care.\n\n  \nWe’ll also have two mobile health units providing onsite screenings and services: \n\nBreathe Easy Mobile Unit – Get support for lung health\, asthma management\, and other respiratory concerns.\nBreast Mobile Unit – Receive breast health screenings and guidance from trained professionals.\n\n  \nThis event is your chance to check in on your health\, ask questions\, and access services conveniently in your neighborhood. This is a free event\, everyone is welcome\, and appointments are not required.
URL:https://onewestside.org/event/health-and-wellness-fair/
LOCATION:College Hill Courts Assembly Room\, 1300 Grove Street\, Chattanooga\, TN\, 34702\, United States
CATEGORIES:Fairs,Health,Outreach
ATTACH;FMTTYPE=image/jpeg:https://onewestside.org/wp-content/uploads/2025/07/Woman-at-wellness-fair-web.jpg
END:VEVENT
END:VCALENDAR