BEGIN:VCALENDAR
VERSION:2.0
PRODID:-//One Westside - ECPv6.15.20//NONSGML v1.0//EN
CALSCALE:GREGORIAN
METHOD:PUBLISH
X-WR-CALNAME:One Westside
X-ORIGINAL-URL:https://onewestside.org
X-WR-CALDESC:Events for One Westside
REFRESH-INTERVAL;VALUE=DURATION:PT1H
X-Robots-Tag:noindex
X-PUBLISHED-TTL:PT1H
BEGIN:VTIMEZONE
TZID:America/New_York
BEGIN:DAYLIGHT
TZOFFSETFROM:-0500
TZOFFSETTO:-0400
TZNAME:EDT
DTSTART:20240310T070000
END:DAYLIGHT
BEGIN:STANDARD
TZOFFSETFROM:-0400
TZOFFSETTO:-0500
TZNAME:EST
DTSTART:20241103T060000
END:STANDARD
BEGIN:DAYLIGHT
TZOFFSETFROM:-0500
TZOFFSETTO:-0400
TZNAME:EDT
DTSTART:20250309T070000
END:DAYLIGHT
BEGIN:STANDARD
TZOFFSETFROM:-0400
TZOFFSETTO:-0500
TZNAME:EST
DTSTART:20251102T060000
END:STANDARD
BEGIN:DAYLIGHT
TZOFFSETFROM:-0500
TZOFFSETTO:-0400
TZNAME:EDT
DTSTART:20260308T070000
END:DAYLIGHT
BEGIN:STANDARD
TZOFFSETFROM:-0400
TZOFFSETTO:-0500
TZNAME:EST
DTSTART:20261101T060000
END:STANDARD
END:VTIMEZONE
BEGIN:VEVENT
DTSTART;TZID=America/New_York:20251206T130000
DTEND;TZID=America/New_York:20251206T150000
DTSTAMP:20260424T234706
CREATED:20251201T141003Z
LAST-MODIFIED:20251201T141039Z
UID:11730-1765026000-1765033200@onewestside.org
SUMMARY:Free Shuttle to the Chattanooga Public Library
DESCRIPTION:The Downtown Chattanooga Public Library is a hub for learning\, creativity\, and community. A special CARTA shuttle will pick up residents in front of the College Hill Courts main office\, go to the library and return to College Hill Courts later that afternoon — for free! \n📅 Date: Saturday\, December 6th📍 Pickup Location: 1300 Grove St (in front of the College Hill Courts Main Office)🕐 Shuttle Pickup Time (to Library): Shuttle leaves at 1:00 pm. Please arrive by 12:50 pm.📖 Library Time: 1.5 hours to explore\, read\, and enjoy🕒 Shuttle Pickup Time (back to Westside): Shuttle leaves at 3:00 pm. Please be ready by 2:50 pm. \nHere’s why you should come: \nFamilies with children: Step into the colorful Children’s Department\, where kids can dive into books\, activities\, and story spaces designed to spark imagination.Teens: Hang out in creative spaces\, explore graphic novels and music\, or check out the Makerspace with 3D printers\, vinyl cutters\, and other hands-on tools.Adults: Use free computers\, get help with technology\, browse job and career resources\, or enjoy some quiet reading time.Seniors: Large-print books\, local history archives\, relaxing spaces\, and helpful staff make the library an easy and welcoming place to spend an afternoon. \nSeats are limited. Reserve your spot by calling 423-203-1092. \nThis is a wonderful chance to explore everything the Downtown Library offers. Shuttle service is provided at no cost.
URL:https://onewestside.org/event/free-shuttle-to-the-chattanooga-public-library-3/
LOCATION:In front of the College Hill Courts Main Office\, 1300 Grove Street\, Chattanooga\, TN\, 37404\, United States
CATEGORIES:Education,Inreach,Workforce Development
ATTACH;FMTTYPE=image/webp:https://onewestside.org/wp-content/uploads/2025/09/Chatt-Library-e1758039087840.webp
END:VEVENT
END:VCALENDAR