BEGIN:VCALENDAR
VERSION:2.0
PRODID:-//One Westside - ECPv6.15.20//NONSGML v1.0//EN
CALSCALE:GREGORIAN
METHOD:PUBLISH
X-WR-CALNAME:One Westside
X-ORIGINAL-URL:https://onewestside.org
X-WR-CALDESC:Events for One Westside
REFRESH-INTERVAL;VALUE=DURATION:PT1H
X-Robots-Tag:noindex
X-PUBLISHED-TTL:PT1H
BEGIN:VTIMEZONE
TZID:America/New_York
BEGIN:DAYLIGHT
TZOFFSETFROM:-0500
TZOFFSETTO:-0400
TZNAME:EDT
DTSTART:20240310T070000
END:DAYLIGHT
BEGIN:STANDARD
TZOFFSETFROM:-0400
TZOFFSETTO:-0500
TZNAME:EST
DTSTART:20241103T060000
END:STANDARD
BEGIN:DAYLIGHT
TZOFFSETFROM:-0500
TZOFFSETTO:-0400
TZNAME:EDT
DTSTART:20250309T070000
END:DAYLIGHT
BEGIN:STANDARD
TZOFFSETFROM:-0400
TZOFFSETTO:-0500
TZNAME:EST
DTSTART:20251102T060000
END:STANDARD
BEGIN:DAYLIGHT
TZOFFSETFROM:-0500
TZOFFSETTO:-0400
TZNAME:EDT
DTSTART:20260308T070000
END:DAYLIGHT
BEGIN:STANDARD
TZOFFSETFROM:-0400
TZOFFSETTO:-0500
TZNAME:EST
DTSTART:20261101T060000
END:STANDARD
END:VTIMEZONE
BEGIN:VEVENT
DTSTART;TZID=America/New_York:20251209T123000
DTEND;TZID=America/New_York:20251209T133000
DTSTAMP:20260424T230952
CREATED:20251106T180219Z
LAST-MODIFIED:20251118T213841Z
UID:12017-1765283400-1765287000@onewestside.org
SUMMARY:CHA December Board Meeting
DESCRIPTION:Join us for the Chattanooga Housing Authority Board of Commissioners meeting. \n📅 Tuesday\, December 9th\n🕧 12:30 PM\n📍 801 N Holtzclaw Ave\, Chattanooga TN\, 37404 \nThe Chattanooga Housing Authority Board of Commissioners meets each month to discuss current projects\, plans\, and decisions shaping affordable housing in Chattanooga. These meetings are a chance for residents\, partners\, and neighbors to learn what’s happening across our programs and to stay connected to the work CHA is doing in Chattanooga. \nEveryone is welcome\, and we encourage you to join us and be part of the conversation.
URL:https://onewestside.org/event/cha-december-board-meeting/
LOCATION:Chattanooga Housing Authority\, 801 N Holtzclaw Ave\, Chattanooga\, TN\, 37404\, United States
CATEGORIES:Meetings
ATTACH;FMTTYPE=image/jpeg:https://onewestside.org/wp-content/uploads/2025/09/CHA-Board-Room-ft-img.jpg
END:VEVENT
END:VCALENDAR