BEGIN:VCALENDAR
VERSION:2.0
PRODID:-//One Westside - ECPv6.15.20//NONSGML v1.0//EN
CALSCALE:GREGORIAN
METHOD:PUBLISH
X-ORIGINAL-URL:https://onewestside.org
X-WR-CALDESC:Events for One Westside
REFRESH-INTERVAL;VALUE=DURATION:PT1H
X-Robots-Tag:noindex
X-PUBLISHED-TTL:PT1H
BEGIN:VTIMEZONE
TZID:America/New_York
BEGIN:DAYLIGHT
TZOFFSETFROM:-0500
TZOFFSETTO:-0400
TZNAME:EDT
DTSTART:20250309T070000
END:DAYLIGHT
BEGIN:STANDARD
TZOFFSETFROM:-0400
TZOFFSETTO:-0500
TZNAME:EST
DTSTART:20251102T060000
END:STANDARD
BEGIN:DAYLIGHT
TZOFFSETFROM:-0500
TZOFFSETTO:-0400
TZNAME:EDT
DTSTART:20260308T070000
END:DAYLIGHT
BEGIN:STANDARD
TZOFFSETFROM:-0400
TZOFFSETTO:-0500
TZNAME:EST
DTSTART:20261101T060000
END:STANDARD
BEGIN:DAYLIGHT
TZOFFSETFROM:-0500
TZOFFSETTO:-0400
TZNAME:EDT
DTSTART:20270314T070000
END:DAYLIGHT
BEGIN:STANDARD
TZOFFSETFROM:-0400
TZOFFSETTO:-0500
TZNAME:EST
DTSTART:20271107T060000
END:STANDARD
END:VTIMEZONE
BEGIN:VEVENT
DTSTART;TZID=America/New_York:20260202T160000
DTEND;TZID=America/New_York:20260202T170000
DTSTAMP:20260424T201102
CREATED:20260130T202456Z
LAST-MODIFIED:20260130T203747Z
UID:12145-1770048000-1770051600@onewestside.org
SUMMARY:Resident Outreach Meeting
DESCRIPTION:Join us for an informational meeting about resident contract opportunities!
URL:https://onewestside.org/event/resident-outreach-meeting/
LOCATION:College Hill Courts Assembly Room\, 1300 Grove Street\, Chattanooga\, TN\, 34702\, United States
CATEGORIES:Meetings,Outreach
ATTACH;FMTTYPE=image/png:https://onewestside.org/wp-content/uploads/2026/01/Untitled-design-3.png
END:VEVENT
BEGIN:VEVENT
DTSTART;TZID=America/New_York:20260209T163000
DTEND;TZID=America/New_York:20260209T173000
DTSTAMP:20260424T201102
CREATED:20260130T210625Z
LAST-MODIFIED:20260209T143246Z
UID:12155-1770654600-1770658200@onewestside.org
SUMMARY:Resident Meet and Greet with Housing Opportunities Unlimited
DESCRIPTION:Residents are invited to come meet our relocation partner\, Housing Opportunities Limited!
URL:https://onewestside.org/event/resident-meet-and-greet-with-housing-opportunities-unlimited/
LOCATION:College Hill Courts Assembly Room\, 1300 Grove Street\, Chattanooga\, TN\, 34702\, United States
CATEGORIES:Meetings
ATTACH;FMTTYPE=image/png:https://onewestside.org/wp-content/uploads/2026/01/Screenshot-2026-02-09-092545.png
END:VEVENT
BEGIN:VEVENT
DTSTART;TZID=America/New_York:20260224T153000
DTEND;TZID=America/New_York:20260224T163000
DTSTAMP:20260424T201102
CREATED:20260220T174020Z
LAST-MODIFIED:20260220T174020Z
UID:12169-1771947000-1771950600@onewestside.org
SUMMARY:CHC Resident Meeting - Safety Concerns
DESCRIPTION:CHA will host a meeting for College Hill Courts residents to discuss safety around the property.\n \nSeveral residents have shared feedback with staff\, and we appreciate those who brought their concerns forward. This meeting is an opportunity to review those concerns\, provide updates\, and discuss ways to support a safe and well-maintained community.\n \nDate:  February 24\nTime: 3:30 – 4:30pm \nLocation: College Hill Courts Assembly Room\n \nThis meeting is for College Hill Courts residents.\nWe encourage residents to attend and participate in the discussion.
URL:https://onewestside.org/event/chc-resident-meeting-safety-concerns/
CATEGORIES:Meetings
ATTACH;FMTTYPE=image/png:https://onewestside.org/wp-content/uploads/2026/02/Safety-Meeting-Flyer.png
END:VEVENT
END:VCALENDAR