BEGIN:VCALENDAR
VERSION:2.0
PRODID:-//One Westside - ECPv6.15.20//NONSGML v1.0//EN
CALSCALE:GREGORIAN
METHOD:PUBLISH
X-WR-CALNAME:One Westside
X-ORIGINAL-URL:https://onewestside.org
X-WR-CALDESC:Events for One Westside
REFRESH-INTERVAL;VALUE=DURATION:PT1H
X-Robots-Tag:noindex
X-PUBLISHED-TTL:PT1H
BEGIN:VTIMEZONE
TZID:America/New_York
BEGIN:DAYLIGHT
TZOFFSETFROM:-0500
TZOFFSETTO:-0400
TZNAME:EDT
DTSTART:20240310T070000
END:DAYLIGHT
BEGIN:STANDARD
TZOFFSETFROM:-0400
TZOFFSETTO:-0500
TZNAME:EST
DTSTART:20241103T060000
END:STANDARD
BEGIN:DAYLIGHT
TZOFFSETFROM:-0500
TZOFFSETTO:-0400
TZNAME:EDT
DTSTART:20250309T070000
END:DAYLIGHT
BEGIN:STANDARD
TZOFFSETFROM:-0400
TZOFFSETTO:-0500
TZNAME:EST
DTSTART:20251102T060000
END:STANDARD
BEGIN:DAYLIGHT
TZOFFSETFROM:-0500
TZOFFSETTO:-0400
TZNAME:EDT
DTSTART:20260308T070000
END:DAYLIGHT
BEGIN:STANDARD
TZOFFSETFROM:-0400
TZOFFSETTO:-0500
TZNAME:EST
DTSTART:20261101T060000
END:STANDARD
END:VTIMEZONE
BEGIN:VEVENT
DTSTART;VALUE=DATE:20251127
DTEND;VALUE=DATE:20251129
DTSTAMP:20260424T230858
CREATED:20251210T043831Z
LAST-MODIFIED:20251210T045551Z
UID:12077-1764201600-1764374399@onewestside.org
SUMMARY:Office Closed for Thanksgiving
DESCRIPTION:The College Hill Courts Main Office will be closing at 12 pm on 11/26 in celebration of Thanksgiving. We will reopen on Monday\, December 1st at 8:30 am. From all of us\, we wish you a safe\, joyful holiday filled with gratitude and connection.
URL:https://onewestside.org/event/offices-closed-for-thanksgiving/
LOCATION:College Hill Courts Main Office\, 1300 Grove Street\, Chattanooga\, TN\, 37402\, United States
CATEGORIES:Office Updates
ATTACH;FMTTYPE=image/jpeg:https://onewestside.org/wp-content/uploads/2025/12/Happy-Thanksgiving-OWS.jpg
END:VEVENT
END:VCALENDAR