BEGIN:VCALENDAR
VERSION:2.0
PRODID:-//One Westside - ECPv6.15.20//NONSGML v1.0//EN
CALSCALE:GREGORIAN
METHOD:PUBLISH
X-ORIGINAL-URL:https://onewestside.org
X-WR-CALDESC:Events for One Westside
REFRESH-INTERVAL;VALUE=DURATION:PT1H
X-Robots-Tag:noindex
X-PUBLISHED-TTL:PT1H
BEGIN:VTIMEZONE
TZID:America/New_York
BEGIN:DAYLIGHT
TZOFFSETFROM:-0500
TZOFFSETTO:-0400
TZNAME:EDT
DTSTART:20250309T070000
END:DAYLIGHT
BEGIN:STANDARD
TZOFFSETFROM:-0400
TZOFFSETTO:-0500
TZNAME:EST
DTSTART:20251102T060000
END:STANDARD
BEGIN:DAYLIGHT
TZOFFSETFROM:-0500
TZOFFSETTO:-0400
TZNAME:EDT
DTSTART:20260308T070000
END:DAYLIGHT
BEGIN:STANDARD
TZOFFSETFROM:-0400
TZOFFSETTO:-0500
TZNAME:EST
DTSTART:20261101T060000
END:STANDARD
BEGIN:DAYLIGHT
TZOFFSETFROM:-0500
TZOFFSETTO:-0400
TZNAME:EDT
DTSTART:20270314T070000
END:DAYLIGHT
BEGIN:STANDARD
TZOFFSETFROM:-0400
TZOFFSETTO:-0500
TZNAME:EST
DTSTART:20271107T060000
END:STANDARD
END:VTIMEZONE
BEGIN:VEVENT
DTSTART;VALUE=DATE:20260216
DTEND;VALUE=DATE:20260217
DTSTAMP:20260424T183308
CREATED:20251210T151609Z
LAST-MODIFIED:20251210T212311Z
UID:12129-1771200000-1771286399@onewestside.org
SUMMARY:Office Closed for President's Day
DESCRIPTION:The College Hill Courts Main office will be closed on Monday\, 2/16 in observance of President’s Day. We will reopen at 8:30 am on Tuesday\, February 17th.
URL:https://onewestside.org/event/office-closed-for-presidents-day/
LOCATION:College Hill Courts Main Office\, 1300 Grove Street\, Chattanooga\, TN\, 37402\, United States
CATEGORIES:Office Updates
ATTACH;FMTTYPE=image/jpeg:https://onewestside.org/wp-content/uploads/2025/12/Closed-on-Presidents-Day-web.jpg
END:VEVENT
END:VCALENDAR