BEGIN:VCALENDAR
VERSION:2.0
PRODID:-//One Westside - ECPv6.15.20//NONSGML v1.0//EN
CALSCALE:GREGORIAN
METHOD:PUBLISH
X-ORIGINAL-URL:https://onewestside.org
X-WR-CALDESC:Events for One Westside
REFRESH-INTERVAL;VALUE=DURATION:PT1H
X-Robots-Tag:noindex
X-PUBLISHED-TTL:PT1H
BEGIN:VTIMEZONE
TZID:America/New_York
BEGIN:DAYLIGHT
TZOFFSETFROM:-0500
TZOFFSETTO:-0400
TZNAME:EDT
DTSTART:20250309T070000
END:DAYLIGHT
BEGIN:STANDARD
TZOFFSETFROM:-0400
TZOFFSETTO:-0500
TZNAME:EST
DTSTART:20251102T060000
END:STANDARD
BEGIN:DAYLIGHT
TZOFFSETFROM:-0500
TZOFFSETTO:-0400
TZNAME:EDT
DTSTART:20260308T070000
END:DAYLIGHT
BEGIN:STANDARD
TZOFFSETFROM:-0400
TZOFFSETTO:-0500
TZNAME:EST
DTSTART:20261101T060000
END:STANDARD
BEGIN:DAYLIGHT
TZOFFSETFROM:-0500
TZOFFSETTO:-0400
TZNAME:EDT
DTSTART:20270314T070000
END:DAYLIGHT
BEGIN:STANDARD
TZOFFSETFROM:-0400
TZOFFSETTO:-0500
TZNAME:EST
DTSTART:20271107T060000
END:STANDARD
END:VTIMEZONE
BEGIN:VEVENT
DTSTART;VALUE=DATE:20260619
DTEND;VALUE=DATE:20260620
DTSTAMP:20260424T183218
CREATED:20260325T140739Z
LAST-MODIFIED:20260325T142623Z
UID:12221-1781827200-1781913599@onewestside.org
SUMMARY:Offices Closed for Juneteenth
DESCRIPTION:The College Hill Courts offices will be closed on Friday\, June 19\, 2026. We will reopen at 8:30 am on Monday\, June 22\, 2026. We hope that you have a great Juneteenth! \n 
URL:https://onewestside.org/event/offices-closed-for-juneteenth/
LOCATION:College Hill Courts Main Office\, 1300 Grove Street\, Chattanooga\, TN\, 37402\, United States
CATEGORIES:Office Updates
ATTACH;FMTTYPE=image/png:https://onewestside.org/wp-content/uploads/2026/03/Offices-Closed-1-scaled.png
END:VEVENT
END:VCALENDAR