BEGIN:VCALENDAR
VERSION:2.0
PRODID:-//One Westside - ECPv6.15.20//NONSGML v1.0//EN
CALSCALE:GREGORIAN
METHOD:PUBLISH
X-WR-CALNAME:One Westside
X-ORIGINAL-URL:https://onewestside.org
X-WR-CALDESC:Events for One Westside
REFRESH-INTERVAL;VALUE=DURATION:PT1H
X-Robots-Tag:noindex
X-PUBLISHED-TTL:PT1H
BEGIN:VTIMEZONE
TZID:America/New_York
BEGIN:DAYLIGHT
TZOFFSETFROM:-0500
TZOFFSETTO:-0400
TZNAME:EDT
DTSTART:20240310T070000
END:DAYLIGHT
BEGIN:STANDARD
TZOFFSETFROM:-0400
TZOFFSETTO:-0500
TZNAME:EST
DTSTART:20241103T060000
END:STANDARD
BEGIN:DAYLIGHT
TZOFFSETFROM:-0500
TZOFFSETTO:-0400
TZNAME:EDT
DTSTART:20250309T070000
END:DAYLIGHT
BEGIN:STANDARD
TZOFFSETFROM:-0400
TZOFFSETTO:-0500
TZNAME:EST
DTSTART:20251102T060000
END:STANDARD
BEGIN:DAYLIGHT
TZOFFSETFROM:-0500
TZOFFSETTO:-0400
TZNAME:EDT
DTSTART:20260308T070000
END:DAYLIGHT
BEGIN:STANDARD
TZOFFSETFROM:-0400
TZOFFSETTO:-0500
TZNAME:EST
DTSTART:20261101T060000
END:STANDARD
END:VTIMEZONE
BEGIN:VEVENT
DTSTART;TZID=America/New_York:20251218T140000
DTEND;TZID=America/New_York:20251218T170000
DTSTAMP:20260424T200743
CREATED:20251111T220325Z
LAST-MODIFIED:20251111T220325Z
UID:12023-1766066400-1766077200@onewestside.org
SUMMARY:Poppy the Mobile Library Van
DESCRIPTION:Poppy the Mobile Library is Coming to College Hill Courts \nThere’s something magical about opening a book. Reading sparks imagination\, builds knowledge\, and strengthens skills that can open doors to new opportunities. Just a few minutes of reading each day can make a big difference in focus\, confidence\, and learning. \nThat’s why we’re so excited that Poppy\, the Chattanooga Public Library’s mobile library van\, will be visiting College Hill Courts on Thursday\, December 18th from 2–5 PM by the flagpole. Come pick out a book\, explore the library on wheels\, and let your imagination take flight! \nWhen Poppy arrives\, residents will be able to: \n\nBrowse and borrow books for all ages\nSign up for a free library card\nDiscover programs and services available through CPL\n\nWhether you’re picking up a children’s book\, diving into a novel\, or finding resources to help with school or job skills\, Poppy has something for you. \nCome out\, check out a book\, and take the first step into a new story!
URL:https://onewestside.org/event/poppy-the-mobile-library-van-4/
LOCATION:College Hill Courts near the Flagpole\, 1300 Grove Street\, Chattanooga\, TN\, 37402\, United States
CATEGORIES:Education,Outreach
ATTACH;FMTTYPE=image/jpeg:https://onewestside.org/wp-content/uploads/2025/09/Poppy-Pop-Up-Library-1.jpg
END:VEVENT
BEGIN:VEVENT
DTSTART;TZID=America/New_York:20251219T170000
DTEND;TZID=America/New_York:20251219T183000
DTSTAMP:20260424T200743
CREATED:20251202T163044Z
LAST-MODIFIED:20251202T195819Z
UID:12062-1766163600-1766169000@onewestside.org
SUMMARY:Cookies and Cocoa with Santa
DESCRIPTION:Join us for an afternoon full of joy\, laughter and festive fun as we celebrate the holidays with cookies\, cocoa (and gifts!) with Santa. \n  \nDate: Friday\, December 19th \nTime: 5:00 pm – 6:30 pm \nLocation: Sheila Jennings Community Center – 1201 Poplar Street\, Chattanooga\, TN 37402 \n  \nToys for Tots will be giving gifts to children. Parents are required to preregister their child and accompany them to receive toys. \nPreregister your child here. \n  \n \nView the event flyer here
URL:https://onewestside.org/event/cookies-and-cocoa-with-santa/
LOCATION:Sheila Jennings Community Center\, 1201 Poplar Street\, Chattanooga\, TN\, 37402\, United States
CATEGORIES:Outreach
ATTACH;FMTTYPE=image/jpeg:https://onewestside.org/wp-content/uploads/2025/12/Cookies-and-Cocoa-with-Santa-16x9-1.jpg
END:VEVENT
END:VCALENDAR