BEGIN:VCALENDAR
VERSION:2.0
PRODID:-//One Westside - ECPv6.15.20//NONSGML v1.0//EN
CALSCALE:GREGORIAN
METHOD:PUBLISH
X-WR-CALNAME:One Westside
X-ORIGINAL-URL:https://onewestside.org
X-WR-CALDESC:Events for One Westside
REFRESH-INTERVAL;VALUE=DURATION:PT1H
X-Robots-Tag:noindex
X-PUBLISHED-TTL:PT1H
BEGIN:VTIMEZONE
TZID:America/New_York
BEGIN:DAYLIGHT
TZOFFSETFROM:-0500
TZOFFSETTO:-0400
TZNAME:EDT
DTSTART:20240310T070000
END:DAYLIGHT
BEGIN:STANDARD
TZOFFSETFROM:-0400
TZOFFSETTO:-0500
TZNAME:EST
DTSTART:20241103T060000
END:STANDARD
BEGIN:DAYLIGHT
TZOFFSETFROM:-0500
TZOFFSETTO:-0400
TZNAME:EDT
DTSTART:20250309T070000
END:DAYLIGHT
BEGIN:STANDARD
TZOFFSETFROM:-0400
TZOFFSETTO:-0500
TZNAME:EST
DTSTART:20251102T060000
END:STANDARD
BEGIN:DAYLIGHT
TZOFFSETFROM:-0500
TZOFFSETTO:-0400
TZNAME:EDT
DTSTART:20260308T070000
END:DAYLIGHT
BEGIN:STANDARD
TZOFFSETFROM:-0400
TZOFFSETTO:-0500
TZNAME:EST
DTSTART:20261101T060000
END:STANDARD
END:VTIMEZONE
BEGIN:VEVENT
DTSTART;TZID=America/New_York:20250925T143000
DTEND;TZID=America/New_York:20250925T170000
DTSTAMP:20260424T152435
CREATED:20250930T151626Z
LAST-MODIFIED:20250930T151626Z
UID:11869-1758810600-1758819600@onewestside.org
SUMMARY:Mobile American Job Center Outreach Event
DESCRIPTION:The Mobile American Job Center is coming to help job seekers take the next step in their careers. \nStaff will be available to assist with job searches\, resume writing\, and interview skills\, as well as registering individuals for Jobs4TN\, where there are currently over 90\,000 job opportunities across the state. Visitors can also ask about educational programs designed to build new skills and open doors to better career paths. Step aboard the Mobile Job Center coach to explore free resources\, one-on-one support\, and personalized guidance. \nFor even more job listings and training tools\, register ahead of time on Jobs4TN.gov.
URL:https://onewestside.org/event/mobile-american-job-center-outreach-event-6/
LOCATION:In front of the College Hill Courts Main Office\, 1300 Grove Street\, Chattanooga\, TN\, 37404\, United States
CATEGORIES:Outreach,Workforce Development
ATTACH;FMTTYPE=image/jpeg:https://onewestside.org/wp-content/uploads/2025/09/Happy-young-womand-in-work-setting-web.jpg
END:VEVENT
BEGIN:VEVENT
DTSTART;TZID=America/New_York:20250925T140000
DTEND;TZID=America/New_York:20250925T170000
DTSTAMP:20260424T152435
CREATED:20250930T152739Z
LAST-MODIFIED:20251021T185921Z
UID:11783-1758808800-1758819600@onewestside.org
SUMMARY:Poppy the Mobile Library Van
DESCRIPTION:Poppy the Mobile Library is Coming to College Hill Courts \nThere’s something powerful about opening a book. Reading sparks imagination\, builds knowledge\, and strengthens skills that can open doors to new opportunities. Just a few minutes of reading each day can make a big difference in improving focus and boosting confidence in school\, work\, and everyday life. \nThat’s why we’re so excited that Poppy\, the Chattanooga Public Library’s mobile library van\, will be visiting College Hill Courts on Friday\, September 25 from 2–5 PM by the flagpole. \nWhen Poppy arrives\, residents will be able to: \n\nBrowse and borrow books for all ages\nSign up for a free library card\nDiscover programs and services available through CPL\n\nWhether you’re picking up a children’s book\, diving into a novel\, or finding resources to help with school or job skills\, Poppy has something for you. \nCome out\, check out a book\, and take the first step into a new story!
URL:https://onewestside.org/event/poppy-the-mobile-library-van/
LOCATION:College Hill Courts near the Flagpole\, 1300 Grove Street\, Chattanooga\, TN\, 37402\, United States
CATEGORIES:Education,Outreach,Workforce Development
ATTACH;FMTTYPE=image/jpeg:https://onewestside.org/wp-content/uploads/2025/09/Poppy-Pop-Up-Library-1.jpg
END:VEVENT
BEGIN:VEVENT
DTSTART;TZID=America/New_York:20250924T143000
DTEND;TZID=America/New_York:20250924T170000
DTSTAMP:20260424T152435
CREATED:20250930T151021Z
LAST-MODIFIED:20250930T151235Z
UID:11865-1758724200-1758733200@onewestside.org
SUMMARY:Mobile American Job Center Outreach Event
DESCRIPTION:The Mobile American Job Center is coming to help job seekers take the next step in their careers. \nStaff will be available to assist with job searches\, resume writing\, and interview skills\, as well as registering individuals for Jobs4TN\, where there are currently over 90\,000 job opportunities across the state. Visitors can also ask about educational programs designed to build new skills and open doors to better career paths. Step aboard the Mobile Job Center coach to explore free resources\, one-on-one support\, and personalized guidance. \nFor even more job listings and training tools\, register ahead of time on Jobs4TN.gov.
URL:https://onewestside.org/event/mobile-american-job-center-outreach-event-5/
LOCATION:In front of the College Hill Courts Main Office\, 1300 Grove Street\, Chattanooga\, TN\, 37404\, United States
CATEGORIES:Outreach,Workforce Development
ATTACH;FMTTYPE=image/jpeg:https://onewestside.org/wp-content/uploads/2025/09/Happy-job-seeker-web.jpg
END:VEVENT
BEGIN:VEVENT
DTSTART;TZID=America/New_York:20250923T173000
DTEND;TZID=America/New_York:20250923T193000
DTSTAMP:20260424T152435
CREATED:20250916T182034Z
LAST-MODIFIED:20250922T152910Z
UID:11733-1758648600-1758655800@onewestside.org
SUMMARY:Construction Job Fair for Section 3 Workers\, CHA Residents and College Hill Courts Residents
DESCRIPTION:📅 Date & Time: Tuesday\, September 23\, 2025 from 5:30 PM – 7:30 PM \n📍 Location: Westside Community Center – 1201 Poplar Street\, Chattanooga\, TN 37402 \n  \nWho We’re Recruiting: \n\nSection 3 Workers\nCHA Residents\nCollege Hill Courts Residents\n\n  \nLooking for steady work and a chance to build your future? Join us at the One Westside Construction Job Fair\, hosted by Block Companies\, the construction team leading the transformation of the Westside. Block Companies has committed to hiring Section 3 workers for the One Westside development\, which means more opportunities for CHA residents and neighbors right here in our community. \nConstruction is a field full of possibilities. It offers steady jobs\, training you can use for years to come\, and the chance to be part of building something that lasts. With entry-level positions and general labor roles available\, this event is designed to connect you directly with the employers who are hiring. \nAt the job fair\, you’ll meet directly with Block Companies and their subcontractors\, learn more about available positions\, and even learn how to qualify as a Section 3 worker. Bring your resume if you have one (applications will also be available on-site). Although they will not be conducting official interviews at the job fair\, first impressions count! \nClick here to download the application form. Complete it ahead of time and bring the completed form to the Job Fair. \nTo make it easier for families to attend\, there will be free childcare\, dinner\, and refreshments\, along with drawings for gift cards. \nCome join us\, explore the possibilities\, and see how construction could be your pathway to a brighter future. \n  \nFor More Information Contact: \n📞 Urban Strategies\, Inc. | 423-203-1092\n📞 Block Companies | 832-973-7083
URL:https://onewestside.org/event/construction-job-fair-for-section-3-workers-cha-residents-and-college-hill-courts-residents/
LOCATION:Sheila Jennings Community Center\, 1201 Poplar Street\, Chattanooga\, TN\, 37402\, United States
CATEGORIES:Fairs,Outreach,Workforce Development
ATTACH;FMTTYPE=image/jpeg:https://onewestside.org/wp-content/uploads/2025/09/Construction-Workers-web.jpg
END:VEVENT
BEGIN:VEVENT
DTSTART;TZID=America/New_York:20250828T130000
DTEND;TZID=America/New_York:20250828T170000
DTSTAMP:20260424T152435
CREATED:20250825T210253Z
LAST-MODIFIED:20250825T210253Z
UID:11680-1756386000-1756400400@onewestside.org
SUMMARY:Mobile American Job Center Outreach Event
DESCRIPTION:The Mobile American Job Center is coming to help job seekers take the next step in their careers. Staff will be available to assist with job searches\, resume writing\, and interview skills\, as well as registering individuals for Jobs4TN\, where there are currently over 90\,000 job opportunities across the state. Visitors can also ask about educational programs designed to build new skills and open doors to better career paths. Step aboard the Mobile Job Center coach to explore free resources\, one-on-one support\, and personalized guidance. For even more job listings and training tools\, register ahead of time on Jobs4TN.gov.
URL:https://onewestside.org/event/mobile-american-job-center-outreach-event-2/
LOCATION:College Hill Courts near the Flagpole\, 1300 Grove Street\, Chattanooga\, TN\, 37402\, United States
CATEGORIES:Fairs,Outreach
ATTACH;FMTTYPE=image/jpeg:https://onewestside.org/wp-content/uploads/2025/08/Happy-job-seeker-web-e1758569559383.jpg
ORGANIZER;CN="Rebekah Melvin":MAILTO:rebekah.melvin@tn.gov
END:VEVENT
BEGIN:VEVENT
DTSTART;TZID=America/New_York:20250827T130000
DTEND;TZID=America/New_York:20250827T170000
DTSTAMP:20260424T152435
CREATED:20250825T205837Z
LAST-MODIFIED:20250825T210017Z
UID:11673-1756299600-1756314000@onewestside.org
SUMMARY:Mobile American Job Center Outreach Event
DESCRIPTION:The Mobile American Job Center is coming to help job seekers take the next step in their careers. Staff will be available to assist with job searches\, resume writing\, and interview skills\, as well as registering individuals for Jobs4TN\, where there are currently over 90\,000 job opportunities across the state. Visitors can also ask about educational programs designed to build new skills and open doors to better career paths. Step aboard the Mobile Job Center coach to explore free resources\, one-on-one support\, and personalized guidance. For even more job listings and training tools\, register ahead of time on Jobs4TN.gov.
URL:https://onewestside.org/event/mobile-american-job-center-outreach-event/
LOCATION:College Hill Courts near the Flagpole\, 1300 Grove Street\, Chattanooga\, TN\, 37402\, United States
CATEGORIES:Fairs,Outreach
ATTACH;FMTTYPE=image/jpeg:https://onewestside.org/wp-content/uploads/2025/08/Happy-job-seeker-web-e1758569559383.jpg
ORGANIZER;CN="Rebekah Melvin":MAILTO:rebekah.melvin@tn.gov
END:VEVENT
END:VCALENDAR