BEGIN:VCALENDAR
VERSION:2.0
PRODID:-//One Westside - ECPv6.15.20//NONSGML v1.0//EN
CALSCALE:GREGORIAN
METHOD:PUBLISH
X-ORIGINAL-URL:https://onewestside.org
X-WR-CALDESC:Events for One Westside
REFRESH-INTERVAL;VALUE=DURATION:PT1H
X-Robots-Tag:noindex
X-PUBLISHED-TTL:PT1H
BEGIN:VTIMEZONE
TZID:America/New_York
BEGIN:DAYLIGHT
TZOFFSETFROM:-0500
TZOFFSETTO:-0400
TZNAME:EDT
DTSTART:20240310T070000
END:DAYLIGHT
BEGIN:STANDARD
TZOFFSETFROM:-0400
TZOFFSETTO:-0500
TZNAME:EST
DTSTART:20241103T060000
END:STANDARD
BEGIN:DAYLIGHT
TZOFFSETFROM:-0500
TZOFFSETTO:-0400
TZNAME:EDT
DTSTART:20250309T070000
END:DAYLIGHT
BEGIN:STANDARD
TZOFFSETFROM:-0400
TZOFFSETTO:-0500
TZNAME:EST
DTSTART:20251102T060000
END:STANDARD
BEGIN:DAYLIGHT
TZOFFSETFROM:-0500
TZOFFSETTO:-0400
TZNAME:EDT
DTSTART:20260308T070000
END:DAYLIGHT
BEGIN:STANDARD
TZOFFSETFROM:-0400
TZOFFSETTO:-0500
TZNAME:EST
DTSTART:20261101T060000
END:STANDARD
END:VTIMEZONE
BEGIN:VEVENT
DTSTART;TZID=America/New_York:20251204T090000
DTEND;TZID=America/New_York:20251204T130000
DTSTAMP:20260424T230850
CREATED:20251201T215042Z
LAST-MODIFIED:20251201T215406Z
UID:12050-1764838800-1764853200@onewestside.org
SUMMARY:Dress for Success: Client Consultations
DESCRIPTION:Ladies\, this is a chance to build confidence\, feel prepared\, and take the next step forward with the guidance of Dress for Success. \n📍 Assembly Room at College Hill Courts🗓 Thursday\, December 4⏰ Appointment times available between 9 am and 1 pm \nDress for Success will be onsite at College Hill Courts offering private one-on-one consultations. Clients will have the opportunity to meet with a stylist\, explore professional wardrobe options\, and receive personalized support to help prepare for upcoming interviews\, and career opportunities. \nSessions are by appointment only. Please reach out to your People Support Specialists at 423-504-2300 to schedule your consultation.
URL:https://onewestside.org/event/dress-for-success-client-consultations-3/
LOCATION:College Hill Courts Assembly Room\, 1300 Grove Street\, Chattanooga\, TN\, 34702\, United States
CATEGORIES:Workforce Development
ATTACH;FMTTYPE=image/jpeg:https://onewestside.org/wp-content/uploads/2025/09/Woman-looking-at-clothes-in-clothing-store-web-2.jpg
END:VEVENT
END:VCALENDAR