BEGIN:VCALENDAR
VERSION:2.0
PRODID:-//One Westside - ECPv6.15.20//NONSGML v1.0//EN
CALSCALE:GREGORIAN
METHOD:PUBLISH
X-ORIGINAL-URL:https://onewestside.org
X-WR-CALDESC:Events for One Westside
REFRESH-INTERVAL;VALUE=DURATION:PT1H
X-Robots-Tag:noindex
X-PUBLISHED-TTL:PT1H
BEGIN:VTIMEZONE
TZID:America/New_York
BEGIN:DAYLIGHT
TZOFFSETFROM:-0500
TZOFFSETTO:-0400
TZNAME:EDT
DTSTART:20250309T070000
END:DAYLIGHT
BEGIN:STANDARD
TZOFFSETFROM:-0400
TZOFFSETTO:-0500
TZNAME:EST
DTSTART:20251102T060000
END:STANDARD
BEGIN:DAYLIGHT
TZOFFSETFROM:-0500
TZOFFSETTO:-0400
TZNAME:EDT
DTSTART:20260308T070000
END:DAYLIGHT
BEGIN:STANDARD
TZOFFSETFROM:-0400
TZOFFSETTO:-0500
TZNAME:EST
DTSTART:20261101T060000
END:STANDARD
BEGIN:DAYLIGHT
TZOFFSETFROM:-0500
TZOFFSETTO:-0400
TZNAME:EDT
DTSTART:20270314T070000
END:DAYLIGHT
BEGIN:STANDARD
TZOFFSETFROM:-0400
TZOFFSETTO:-0500
TZNAME:EST
DTSTART:20271107T060000
END:STANDARD
END:VTIMEZONE
BEGIN:VEVENT
DTSTART;TZID=America/New_York:20260512T110000
DTEND;TZID=America/New_York:20260512T120000
DTSTAMP:20260424T183116
CREATED:20260413T131210Z
LAST-MODIFIED:20260413T131210Z
UID:12295-1778583600-1778587200@onewestside.org
SUMMARY:Employment Resource Class
DESCRIPTION:May 5\, 2026: Resume Building and Job Skills \nMay 12\, 2026: Interviewing Skills and Dressing for Success \n11:00 a.m. and 5:00 p.m. Sessions \nWhat we will cover: \n\nKey skills employers are looking for\nHow to prepare for job opportunities\nResources and support available to help you succeed\n\nSign up on the provided link or: \nCall (423) 509-9570 or \nStop By Our Office at Unit 749
URL:https://onewestside.org/event/employment-resource-class-3/
LOCATION:College Hill Courts Assembly Room\, 1300 Grove Street\, Chattanooga\, TN\, 34702\, United States
CATEGORIES:Workforce Development
ATTACH;FMTTYPE=image/png:https://onewestside.org/wp-content/uploads/2026/04/Screenshot-2026-04-13-085249.png
END:VEVENT
BEGIN:VEVENT
DTSTART;TZID=America/New_York:20260512T170000
DTEND;TZID=America/New_York:20260512T180000
DTSTAMP:20260424T183116
CREATED:20260413T131445Z
LAST-MODIFIED:20260413T131445Z
UID:12297-1778605200-1778608800@onewestside.org
SUMMARY:Employment Resource Class
DESCRIPTION:May 5\, 2026: Resume Building and Job Skills \nMay 12\, 2026: Interviewing Skills and Dressing for Success \n11:00 a.m. and 5:00 p.m. Sessions \nWhat we will cover: \n\nKey skills employers are looking for\nHow to prepare for job opportunities\nResources and support available to help you succeed\n\nSign up on the provided link or: \nCall (423) 509-9570 or \nStop By Our Office at Unit 749
URL:https://onewestside.org/event/employment-resource-class-4/
LOCATION:College Hill Courts Assembly Room\, 1300 Grove Street\, Chattanooga\, TN\, 34702\, United States
CATEGORIES:Workforce Development
ATTACH;FMTTYPE=image/png:https://onewestside.org/wp-content/uploads/2026/04/Screenshot-2026-04-13-085249.png
END:VEVENT
END:VCALENDAR